BEGIN:VCALENDAR
VERSION:2.0
PRODID:-//Die Erd-Charta - ECPv6.15.20//NONSGML v1.0//EN
CALSCALE:GREGORIAN
METHOD:PUBLISH
X-ORIGINAL-URL:https://erdcharta.de
X-WR-CALDESC:Veranstaltungen für Die Erd-Charta
REFRESH-INTERVAL;VALUE=DURATION:PT1H
X-Robots-Tag:noindex
X-PUBLISHED-TTL:PT1H
BEGIN:VTIMEZONE
TZID:Europe/Berlin
BEGIN:DAYLIGHT
TZOFFSETFROM:+0100
TZOFFSETTO:+0200
TZNAME:CEST
DTSTART:20220327T010000
END:DAYLIGHT
BEGIN:STANDARD
TZOFFSETFROM:+0200
TZOFFSETTO:+0100
TZNAME:CET
DTSTART:20221030T010000
END:STANDARD
BEGIN:DAYLIGHT
TZOFFSETFROM:+0100
TZOFFSETTO:+0200
TZNAME:CEST
DTSTART:20230326T010000
END:DAYLIGHT
BEGIN:STANDARD
TZOFFSETFROM:+0200
TZOFFSETTO:+0100
TZNAME:CET
DTSTART:20231029T010000
END:STANDARD
BEGIN:DAYLIGHT
TZOFFSETFROM:+0100
TZOFFSETTO:+0200
TZNAME:CEST
DTSTART:20240331T010000
END:DAYLIGHT
BEGIN:STANDARD
TZOFFSETFROM:+0200
TZOFFSETTO:+0100
TZNAME:CET
DTSTART:20241027T010000
END:STANDARD
END:VTIMEZONE
BEGIN:VEVENT
DTSTART;TZID=Europe/Berlin:20230726T190000
DTEND;TZID=Europe/Berlin:20230726T203000
DTSTAMP:20260422T020316
CREATED:20230424T190112Z
LAST-MODIFIED:20230517T135047Z
UID:2608-1690398000-1690403400@erdcharta.de
SUMMARY:Erd-Charta-Austausch - Der Offener Online-Abend für alle Interessierten
DESCRIPTION:Der Online-Stammtisch für alle Aktiven und Interessierten rund um die Erd-ChartaDer Erd-Charta-Austausch möchte ein Forum schaffen\, in dem wir uns gegenseitig inspirieren können. Im offenen Raum mit Gleichgesinnten können wir einander von unseren Erd-Charta-Aktionen berichten\, sie feiern und uns dazu beratend zur Seite stehen. Jedes Mal gibt es einen kleinen Impuls zu Themen\, die uns gerade bewegen als auch genügend Zeit für freien und regen Austausch unter allen Teilnehmer*innen. Wenn Euch ein bestimmtes Thema besonders am Herzen liegt\, wendet Euch gerne an uns und wir können es beim nächsten Termin aufgreifen. Das könnten beispielsweise Erfahrungen aus internationalen Freiwilligendiensten sein\, antirassistisches Handeln\, tiefenökologische Methoden oder regenerative Praktiken im Ökosystem sein. Auch kannst Du den Raum gerne nutzen\, wenn Du Tipps und Tricks für Deine Veranstaltungen von anderen Aktiven haben möchtest. Zum Schluss gibt es außerdem einen kleine Überblick\, was in den kommenden Wochen und Monaten an Erd-Charta-Aktivitäten anstehen. \n\n\n\n\n\n\n\n\n\n \n\n\n\nDetails\n\n\n\nWann? alle zwei Monate Dienstags oder Mittwochs; 19 – 20:30 UhrWo? Zoom-Link zum Treffen: https://zoom.us/j/95929889228?pwd=WlM5WENTaHZZT2ljbWo1NFFyMnJodz09(Meeting-ID: 959 2988 9228 – Kenncode: 963270 – Ortseinwahl suchen: https://zoom.us/u/ajakUHaly)Wer? Erd-Charta-Bildungsreferent*innen (Isabelle Roosen und/oder Angelika Schroers)Kosten: keine; Es ist keine vorherige Anmeldung nötig! \n\n\n\nWir freuen uns auf spannende Gespräche mit Euch!
URL:https://erdcharta.de/veranstaltung/erd-charta-austausch-der-offener-online-abend-fuer-alle-interessierten-3/
ATTACH;FMTTYPE=image/jpeg:https://erdcharta.de/wp-content/uploads/2023/02/chris-montgomery-smgTvepind4-unsplash-scaled.jpg
END:VEVENT
END:VCALENDAR