BEGIN:VCALENDAR
VERSION:2.0
PRODID:-//Die Erd-Charta - ECPv6.15.20//NONSGML v1.0//EN
CALSCALE:GREGORIAN
METHOD:PUBLISH
X-WR-CALNAME:Die Erd-Charta
X-ORIGINAL-URL:https://erdcharta.de
X-WR-CALDESC:Veranstaltungen für Die Erd-Charta
REFRESH-INTERVAL;VALUE=DURATION:PT1H
X-Robots-Tag:noindex
X-PUBLISHED-TTL:PT1H
BEGIN:VTIMEZONE
TZID:Europe/Berlin
BEGIN:DAYLIGHT
TZOFFSETFROM:+0100
TZOFFSETTO:+0200
TZNAME:CEST
DTSTART:20220327T010000
END:DAYLIGHT
BEGIN:STANDARD
TZOFFSETFROM:+0200
TZOFFSETTO:+0100
TZNAME:CET
DTSTART:20221030T010000
END:STANDARD
BEGIN:DAYLIGHT
TZOFFSETFROM:+0100
TZOFFSETTO:+0200
TZNAME:CEST
DTSTART:20230326T010000
END:DAYLIGHT
BEGIN:STANDARD
TZOFFSETFROM:+0200
TZOFFSETTO:+0100
TZNAME:CET
DTSTART:20231029T010000
END:STANDARD
BEGIN:DAYLIGHT
TZOFFSETFROM:+0100
TZOFFSETTO:+0200
TZNAME:CEST
DTSTART:20240331T010000
END:DAYLIGHT
BEGIN:STANDARD
TZOFFSETFROM:+0200
TZOFFSETTO:+0100
TZNAME:CET
DTSTART:20241027T010000
END:STANDARD
END:VTIMEZONE
BEGIN:VEVENT
DTSTART;TZID=Europe/Berlin:20230907T170000
DTEND;TZID=Europe/Berlin:20230907T213000
DTSTAMP:20260421T225035
CREATED:20230530T093808Z
LAST-MODIFIED:20230724T080318Z
UID:2638-1694106000-1694122200@erdcharta.de
SUMMARY:Vernetzt in Magdeburg - Verbunden mit der Welt
DESCRIPTION:Regionaltreffen für Erd-Charta-Aktive in und um Magdeburg\n\n\n\nNachdem wir im letzten Jahr eine Erd-Charta-Botschafter*innen-Ausbildung in Magdeburg zusammen mit dem uns verbundenen Gemeinschaftsprojekt Vitopia durchführten\, treibt uns nun die Frage um: „Wie können wir den Bewusstseinswandel verbunden mit der Erd-Charta verstärkt in die Region Magdeburg bringen?“ \n\n\n\n\n\n\n\nTeilweise konntet Ihr Euch bei der Ausbildung kennenlernen\, teilweise seid Ihr schon lange in der weiteren Region aktiv. Wir möchten Euch einladen zu einem Vernetzungstreffen\, das Euch ermöglicht\, bestehende Kontakte zu vertiefen und neue zu knüpfen. Es gibt ausreichend Zeit zum Austausch\, Wiedersehen und gemeinschaftlichem Sammeln von Aktionsideen.Davon ausgehend wollen wir mit Euch in einem Brainstorming konkret werden\, wie wir die Vision der Erd-Charta einer nachhaltig-solidarischen Welt weiter in der Region verbreiten können und wie Euer lokales Engagement strukturell verankert werden kann. Was könnt Ihr tun? Wie können wir Euch dabei unterstützen? Wir möchten mit Euch vorbereiten\, organisieren und festlegen\, wie eine mögliche Erd-Charta-Regionalkonferenz im Herbst 2023 in Magdeburg aussehen kann.Ihr seid herzlich eingeladen\, vorbeizukommen und Eure Ideen einzubringen.Wir freuen uns auf Euch! \n\n\n\nVoraussichtliches Programm\n\n\n\nAb 17:30Gemeinsames Ankommen & Austausch18:30 – 19:15 Abendessen19:15 – 21:30Brainstorming: Erd-Charta in der Region verankern\n\n\n\nDetails\n\n\n\nWann? Donnerstag\, 07.September 17:30 Uhr bis 21 UhrWo? Cafè Verde\, Vitopia – . Mehr Infos: http://www.vitopia.deWer? Bella und Denis für das Erd-Charta-BüroKosten: nur Deine Zeit – Fahrtkosten können übernommen werden! \n\n\n\nVorstellung Erd-Charta-Büro\n\n\n\n\nIsabelle Roosen freut sich mal wieder an die Magdeburger Elbauen zu kommen\, wo sie letztes Jahr drei ganz besondere Erd-Charta-Seminare begleiten durfte. Neben ihrer Tätigkeit als Erd-Charta-Bildungsreferentin ist sie viel unterwegs und begrünt ihre Heimatstadt Köln – ob im Gemeinschaftgarten\, einer Grundschul-AG oder ihrem WG-Balkon.  \n\n\n\n\n\nDenis Kupsch ist geschäftsführender Referent des Erd-Charta-Koordinationsbüros und unterstützt somit normalerweise die Umsetzung der Erd-Charta-Projekte und Aktivitäten aus dem Hintergrund. Als Ur-Magdeburger lässt er sich jedoch nicht nehmen sich hier auch inhaltlich einzubringen. Denis hat Naturschutz studiert und arbeitet neben seiner Erd-Charta-Tätigkeit weiterhin in diesem Berufsfeld. \n\n\n\n\nVorstellung Seminarort\n\n\n\n\nMitten in der Natur und doch stadtnah befindet sich in Magdeburg das historische Häuserensemble von Vitopia direkt an der Elbe mit dem Elberadweg. Durch eine ökologische\, denkmalgerechte Gebäudesanierung ist in dem ehemaligen Gärtnerhaus ein gemütliches\, familienfreundliches CAFÉ\, eine Herberge mit Seminar/Gemeinschaftsraum und gemeinschaftlich genutzter Wohnraum entstanden.  \n\n\n\n\nAnmeldung\n\n\n\n\nMeldet Euch gerne an\, damit es genug Abendessen für alle gibt! \n\n\n\n\n                    Anmeldung Seminar        \n            \n                \n                    Updates                \n            \n            \n                \n            \n        \n        VornameNachnameE-MailAdresseStraße und HausnummerStadtPostleitzahlLandLand auswählenAfghanistanAlbanienAlgerienAmerikanisch-SamoaAmerikanische JungferninselnAndorraAngolaAnguillaAntarktikaAntigua und BarbudaArgentinienArmenienArubaAserbaidschanAustralienBahamasBahrainBangladeschBarbadosBelarusBelgienBelizeBeninBermudaBhutanBolivienBonaire\, Sint Eustatius und SabaBosnien und HerzegowinaBotswanaBouvetinselBrasilienBritische JungferninselnBritisches Territorium im Indischen OzeanBruneiBulgarienBurkina FasoBurundiCabo VerdeChileChinaCookinselnCosta RicaCuraçaoDemocratic Republic of the Congo (Kinshasa)DeutschlandDominicaDominikanische RepublikDschibutiDänemarkEcuadorEl SalvadorElfenbeinküsteEritreaEstlandEswatiniFalklandinselnFidschiFinnlandFrankreichFranzösisch-GuayanaFranzösisch-PolynesienFranzösische Süd- und AntarktisgebieteFäröerGabunGambiaGeorgienGhanaGibraltarGrenadaGriechenlandGrönlandGuadeloupeGuamGuatemalaGuernseyGuineaGuinea-BissauGuyanaHaitiHeard und McDonaldinselnHondurasHongkongIndienIndonesienIrakIranIrlandIslandIsle of ManIsraelItalienJamaikaJapanJemenJerseyJordanienKaimaninselnKambodschaKamerunKanadaKasachstanKatarKeniaKirgisistanKiribatiKokosinseln (Keelinginseln)KolumbienKomorenKosovoKroatienKubaKuwaitLaosLesothoLettlandLibanonLiberiaLibyenLiechtensteinLitauenLuxemburgMacao\, ChinaMadagaskarMalawiMalaysiaMaledivenMaliMaltaMarokkoMarshallinselnMartiniqueMauretanienMauritiusMayotteMexikoMikronesienMoldauMonacoMongoleiMontenegroMontserratMosambikMyanmarNamibiaNauruNepalNeukaledonienNeuseelandNicaraguaNiederlandeNigerNigeriaNiueNordkoreaNorfolkinselNorth MacedoniaNorwegenNördliche MarianenOmanOsttimorPakistanPalauPalästinensische AutonomiegebietePanamaPapua-NeuguineaParaguayPeruPhilippinenPitcairninselnPolenPortugalPuerto RicoRepublic of the Congo (Brazzaville)RuandaRumänienRusslandRéunionSaint BarthélemySaint Martin (niederländischer Teil)Saint-Pierre und MiquelonSalomonenSambiaSamoaSan MarinoSao Tome and PrincipeSaudi-ArabienSchwedenSchweizSenegalSerbienSeychellenSierra LeoneSimbabweSingapurSlowakeiSlowenienSomaliaSpanienSpitzbergen und Jan MayenSri LankaSt. HelenaSt. Kitts und NevisSt. LuciaSt. Martin (Frankreich)St. Vincent und die GrenadinenSudanSurinamSyrienSüdafrikaSüdgeorgien/SandwichinselnSüdkoreaSüdsudanTadschikistanTaiwanTansaniaThailandTogoTokelauTongaTrinidad und TobagoTschadTschechienTunesienTurkmenistanTurks- und CaicosinselnTuvaluTürkiyeUgandaUkraineUngarnUnited States (US) Minor Outlying IslandsUruguayUsbekistanVanuatuVatikanstadtVenezuelaVereinigte Arabische EmirateVereinigte Staaten von Amerika (USA)Vereinigtes KönigreichVietnamWallis und FutunaWeihnachtsinselWestsaharaZentralafrikanische RepublikZypernÄgyptenÄquatorialguineaÄthiopienÅlandinselnÖsterreichInstitution TelefonnummerVerpflegungswünscheÜbernachtung gewünscht? (wenn nicht anders gekennzeichnet im Preis inbegriffen) Ja NeinBesondere Wünsche für die Übernachtung (z.B. Barrierefreiheit\, Zimmerwunsch)Ich bin damit einverstanden\, dass meine Kontaktdaten an andere Teilnehmer*innen weitergegeben werden\, zum Beispiel für Fahrgemeinschaften. Ja NeinIch habe die Stornobedingungen gelesen: https://erdcharta.de/stornobedingungen/ JaBemerkungenVerbindlich anmelden            \n            \n\n\n\n\nAllgemeine Infos Erd-Charta-Seminare:\n\n\n\n*Die Erd-Charta ist ein ethischer Rahmen für nachhaltige Entwicklung. Das Dokument ist in einem weltweiten zivil-gesellschaftlichen Prozess entstanden aus dem eine Bewegung hervorging\, die vor allem die Interdependenz (gegenseitige Abhängigkeiten) weltweiter Probleme betont und eine Vision schafft für eine solidarische und friedliche Welt für alle. Die Weltdekade Bildung für Nachhaltige Entwicklung der UNESCO zeichnete die Erd-Charta 2012 als strukturbildende Maßnahme. Sie bildet die Grundlage unserer Bildungsarbeit in Deutschland. Wir freuen uns auf Dich!*Alle Termine gelten unter Vorbehalt. Wir behalten uns vor das Programm gegebenenfalls anzupassen. Informationen hierzu erhaltet ihr auf unserer Webseite bei den entsprechenden Veranstaltungen.
URL:https://erdcharta.de/veranstaltung/vernetzt-in-magdeburg-verbunden-mit-der-welt/
LOCATION:Vitopia\, Magdeburg\, Herrenkrug 2\, Magdeburg\, Sachsen-Anhalt\, 39114\, Deutschland
CATEGORIES:Werkstatt
ATTACH;FMTTYPE=image/png:https://erdcharta.de/wp-content/uploads/2023/05/Regionaltreffen-MD-2023-1.png
END:VEVENT
END:VCALENDAR