BEGIN:VCALENDAR
VERSION:2.0
PRODID:-//Die Erd-Charta - ECPv6.15.20//NONSGML v1.0//EN
CALSCALE:GREGORIAN
METHOD:PUBLISH
X-ORIGINAL-URL:https://erdcharta.de
X-WR-CALDESC:Veranstaltungen für Die Erd-Charta
REFRESH-INTERVAL;VALUE=DURATION:PT1H
X-Robots-Tag:noindex
X-PUBLISHED-TTL:PT1H
BEGIN:VTIMEZONE
TZID:Europe/Berlin
BEGIN:DAYLIGHT
TZOFFSETFROM:+0100
TZOFFSETTO:+0200
TZNAME:CEST
DTSTART:20220327T010000
END:DAYLIGHT
BEGIN:STANDARD
TZOFFSETFROM:+0200
TZOFFSETTO:+0100
TZNAME:CET
DTSTART:20221030T010000
END:STANDARD
BEGIN:DAYLIGHT
TZOFFSETFROM:+0100
TZOFFSETTO:+0200
TZNAME:CEST
DTSTART:20230326T010000
END:DAYLIGHT
BEGIN:STANDARD
TZOFFSETFROM:+0200
TZOFFSETTO:+0100
TZNAME:CET
DTSTART:20231029T010000
END:STANDARD
BEGIN:DAYLIGHT
TZOFFSETFROM:+0100
TZOFFSETTO:+0200
TZNAME:CEST
DTSTART:20240331T010000
END:DAYLIGHT
BEGIN:STANDARD
TZOFFSETFROM:+0200
TZOFFSETTO:+0100
TZNAME:CET
DTSTART:20241027T010000
END:STANDARD
END:VTIMEZONE
BEGIN:VEVENT
DTSTART;TZID=Europe/Berlin:20230929T170000
DTEND;TZID=Europe/Berlin:20231002T140000
DTSTAMP:20260421T172549
CREATED:20230621T124806Z
LAST-MODIFIED:20230905T120739Z
UID:2721-1696006800-1696255200@erdcharta.de
SUMMARY:Verspielt?!
DESCRIPTION:Erd-Charta-Theaterworkshop\n\n\n\nErlebe vielfältige Theaterspiele und -übungen\, die unsere Spielfreude wecken und kreativen Kräfte schöpfen lassen. Im geschützten Rahmen des Wochenendes erspüren wir den „Großen Wandel“ und erspielen Utopien und Alternativen. Dabei lernst du Methoden des Statuen-\, Improvisations- und Bewegungstheaters kennen. Du trainierst Präsenz\, erlebst dich selbst als Handelnde*r und erschaffst neue Realitäten.Mit der Kraft der Spielfreude fördert unsere Theaterarbeit deine Selbstermächtigung\, deine innere und äußere Beweglichkeit und unterstützt dich dabei\, der Wandel zu sein\, den du in der Welt sehen willst. Bewege was dich bewegt!Für diesen Workshop brauchst Du keine Theatererfahrung – nur Lust dich mit Herz\, Hand und Verstand auf den Weg zu machen. \n\n\n\n\n\n\n\n \n\n\n\nDas voraussichtliche Programm folgt!\n\n\n\n \n\n\n\nDetails\n\n\n\nWann? Freitag\, 29. September 17 Uhr bis Sonntag\, 01. Oktober 2023 ca. 14 UhrWo? Zukunftswerkstatt Ökumene\, GermeteWer? Torben Flörkemeier und Catriona BlankeKosten: 50 – 100 Euro (nach Selbsteinschätzung\, inkl. regionaler-bio Verpflegung und Übernachtung in Einzelzimmern) \n\n\n\n \n\n\n\nVorstellung Referent*innen\n\n\n\n\nDer Transformationsforscher und Theatercoach Torben Flörkemeier leitet seit 2014 die Erd-Charta-Botschafter*innen-Ausbildung. Er lebt mit seiner kleinen Tochter\, Partnerin\, Oma\, und Tieren in einer familiären Gemeinschaft auf einem Hof in Ostwestfalen-Lippe. Mit Ganzheitlichkeit experimentiert er dort ganz praktisch\, indem er das alte Bauernhaus ökologisch saniert und die umliegenden Obstwiesen vielfältig reaktiviert. \n\n\n\n\n\n \n\n\n\nCatriona Blanke\, Erzählerin\, Liedermacherin\, Theaterpädagogin und StoryMedicine Woman\, Leutkirch \n\n\n\nFür mich als Erzählerin\, Schauspielerin\, Coach und Story Medicine Woman ist es am Wichtigsten\, zu erforschen\, was die theoretisch formulierten Inhalte der Erd-Charta mit unserem tiefsten Inneren zu tun haben. Denn erst wenn diese Inhalte erst einmal „ver-innerlicht“ und dann „ver-körpert“ werden\, wird sehr schnell für alle deutlich sichtbar: Wir sind alle verbunden\, haben die gleichen Grundbedürfnisse\, eine Sehnsucht nach einem guten\, liebevollen Leben und einem gesunden\, respektvollen und nährenden Umfeld. In meinem Erzählen\, in Workshops und Seminaren und in meinen Storytelling-Ausbildungen arbeite ich gerne mit der Earth-Stories Collection\, einer inspirierenden Geschichtensammlung die auf der Erd-Charta basiert. \n\n\n\n\n\nVorstellung Seminarort\n\n\n\nDie Zukunftswerkstatt Ökumene liegt in einem ehemaligen Kloster in Warburg-Germete\, ein wunderschönes Dorf im Grünen. Das Tagungshaus mit Herberge entstand in Gesprächen zwischen den Serviam-Schwestern\, die in den anliegenden Gebäuden wohnen und Mitgliedern der Ökumenischen Gemeinschaft Wethen. Eingebettet in eine Parkanlage mit alten Lindenbäumen\, einer Streuobstwiese und dem Sinnesgarten rund ums Haus ist die Zukunftswerkstatt schon seit vielen Jahren ein beliebter Seminarort von uns. Die Übernachtung erfolgt in Einzelzimmern mit einfacher Ausstattung. \n\n\n\n\nAnmeldung\n\n\n\n\n\n                    Anmeldung Seminar        \n            \n                \n                    Newsletter                \n            \n            \n                \n            \n        \n        VornameNachnameE-MailAdresseStraße und HausnummerStadtPostleitzahlLandLand auswählenAfghanistanAlbanienAlgerienAmerikanisch-SamoaAmerikanische JungferninselnAndorraAngolaAnguillaAntarktikaAntigua und BarbudaArgentinienArmenienArubaAserbaidschanAustralienBahamasBahrainBangladeschBarbadosBelarusBelgienBelizeBeninBermudaBhutanBolivienBonaire\, Sint Eustatius und SabaBosnien und HerzegowinaBotswanaBouvetinselBrasilienBritische JungferninselnBritisches Territorium im Indischen OzeanBruneiBulgarienBurkina FasoBurundiCabo VerdeChileChinaCookinselnCosta RicaCuraçaoDemocratic Republic of the Congo (Kinshasa)DeutschlandDominicaDominikanische RepublikDschibutiDänemarkEcuadorEl SalvadorElfenbeinküsteEritreaEstlandEswatiniFalklandinselnFidschiFinnlandFrankreichFranzösisch-GuayanaFranzösisch-PolynesienFranzösische Süd- und AntarktisgebieteFäröerGabunGambiaGeorgienGhanaGibraltarGrenadaGriechenlandGrönlandGuadeloupeGuamGuatemalaGuernseyGuineaGuinea-BissauGuyanaHaitiHeard und McDonaldinselnHondurasHongkongIndienIndonesienIrakIranIrlandIslandIsle of ManIsraelItalienJamaikaJapanJemenJerseyJordanienKaimaninselnKambodschaKamerunKanadaKasachstanKatarKeniaKirgisistanKiribatiKokosinseln (Keelinginseln)KolumbienKomorenKosovoKroatienKubaKuwaitLaosLesothoLettlandLibanonLiberiaLibyenLiechtensteinLitauenLuxemburgMacao\, ChinaMadagaskarMalawiMalaysiaMaledivenMaliMaltaMarokkoMarshallinselnMartiniqueMauretanienMauritiusMayotteMexikoMikronesienMoldauMonacoMongoleiMontenegroMontserratMosambikMyanmarNamibiaNauruNepalNeukaledonienNeuseelandNicaraguaNiederlandeNigerNigeriaNiueNordkoreaNorfolkinselNorth MacedoniaNorwegenNördliche MarianenOmanOsttimorPakistanPalauPalästinensische AutonomiegebietePanamaPapua-NeuguineaParaguayPeruPhilippinenPitcairninselnPolenPortugalPuerto RicoRepublic of the Congo (Brazzaville)RuandaRumänienRusslandRéunionSaint BarthélemySaint Martin (niederländischer Teil)Saint-Pierre und MiquelonSalomonenSambiaSamoaSan MarinoSao Tome and PrincipeSaudi-ArabienSchwedenSchweizSenegalSerbienSeychellenSierra LeoneSimbabweSingapurSlowakeiSlowenienSomaliaSpanienSpitzbergen und Jan MayenSri LankaSt. HelenaSt. Kitts und NevisSt. LuciaSt. Martin (Frankreich)St. Vincent und die GrenadinenSudanSurinamSyrienSüdafrikaSüdgeorgien/SandwichinselnSüdkoreaSüdsudanTadschikistanTaiwanTansaniaThailandTogoTokelauTongaTrinidad und TobagoTschadTschechienTunesienTurkmenistanTurks- und CaicosinselnTuvaluTürkiyeUgandaUkraineUngarnUnited States (US) Minor Outlying IslandsUruguayUsbekistanVanuatuVatikanstadtVenezuelaVereinigte Arabische EmirateVereinigte Staaten von Amerika (USA)Vereinigtes KönigreichVietnamWallis und FutunaWeihnachtsinselWestsaharaZentralafrikanische RepublikZypernÄgyptenÄquatorialguineaÄthiopienÅlandinselnÖsterreichInstitution TelefonnummerVerpflegungswünscheÜbernachtung gewünscht? (wenn nicht anders gekennzeichnet im Preis inbegriffen) Ja NeinBesondere Wünsche für die Übernachtung (z.B. Barrierefreiheit\, Zimmerwunsch)Ich bin damit einverstanden\, dass meine Kontaktdaten an andere Teilnehmer*innen weitergegeben werden\, zum Beispiel für Fahrgemeinschaften. Ja NeinIch habe die Stornobedingungen gelesen: https://erdcharta.de/stornobedingungen/ JaBemerkungenVerbindlich anmelden            \n            \n\n\n\n\nDer Verlauf der Ausbildung\n\n\n\nUm zu den praktischen Methoden die Grundlagen der Erd-Charta-Bildungsarbeit zu kennen\, such Dir ein Grundseminar aus. Dafür bieten wir in 2023 folgende an: \n\n\n\n				13\n					März\n					2026\n				Turning conscience in action!Du interessierst Dich für nachhaltige Entwicklung und hast häufig das Gefühl\, dass eine gewisse Tiefe fehlt? Du möchtest lernen\, wie eine grundlegende Werteveränderung und ein Bewusstseinswandel für eine sozial-ökologische-ökonomische Transformation aussehen können? \nMehr erfahren\n				18\n					September\n					2026\n				Werde Erd-Charta-Botschafter*in!Du interessierst Dich für nachhaltige Entwicklung und hast häufig das Gefühl\, dass eine gewisse Tiefe fehlt? Du möchtest lernen\, wie eine grundlegende Werteveränderung und ein Bewusstseinswandel für eine sozial-ökologische-ökonomische Transformation aussehen können? \nMehr erfahren\n\n\n\nUm Erd-Charta-Botschafter*in zu werden\, braucht es dann noch einen Umsetzungspart von Dir. Führe Deine eigene Aktion durch! Wir unterstützen Euch dabei sehr gerne! Zudem freuen wir uns Euch als Referent*in im Rahmen der von uns bundesweit koordinierten Erd-Charta-Bildungsarbeit gewinnen zu können\, mit Euch gemeinsam kreative neue Methoden zu entwickeln oder bei unserem initiativ-Magazin mitzuwirken. \n\n\n\nAllgemeine Infos Erd-Charta-Seminare:\n\n\n\n*Die Erd-Charta ist ein ethischer Rahmen für nachhaltige Entwicklung. Das Dokument ist in einem weltweiten zivil-gesellschaftlichen Prozess entstanden aus dem eine Bewegung hervorging\, die vor allem die Interdependenz (gegenseitige Abhängigkeiten) weltweiter Probleme betont und eine Vision schafft für eine solidarische und friedliche Welt für alle. Die Weltdekade Bildung für Nachhaltige Entwicklung der UNESCO zeichnete die Erd-Charta 2012 als strukturbildende Maßnahme. Sie bildet die Grundlage unserer Bildungsarbeit in Deutschland. Das Seminar ist Begleitprogramm unserer Erd-Charta-Botschafter*innen-Ausbildung\, kann jedoch auch ohne Vorkenntnisse besucht werden. Wir freuen uns auf Dich!*Alle Termine gelten unter Vorbehalt. Wir behalten uns vor das Programm gegebenenfalls anzupassen. Informationen hierzu erhaltet ihr auf unserer Webseite bei den entsprechenden Veranstaltungen.
URL:https://erdcharta.de/veranstaltung/verspielt/
LOCATION:Zukunftswerkstatt Germete\, Quellenstraße 8\, Warburg-Germete\, 34414\, Deutschland
CATEGORIES:Erd-Charta-Botschafter*innen-Methoden,Seminar
ATTACH;FMTTYPE=image/jpeg:https://erdcharta.de/wp-content/uploads/2023/06/menschen.jpg
END:VEVENT
END:VCALENDAR