BEGIN:VCALENDAR
VERSION:2.0
PRODID:-//Die Erd-Charta - ECPv6.15.20//NONSGML v1.0//EN
CALSCALE:GREGORIAN
METHOD:PUBLISH
X-ORIGINAL-URL:https://erdcharta.de
X-WR-CALDESC:Veranstaltungen für Die Erd-Charta
REFRESH-INTERVAL;VALUE=DURATION:PT1H
X-Robots-Tag:noindex
X-PUBLISHED-TTL:PT1H
BEGIN:VTIMEZONE
TZID:Europe/Berlin
BEGIN:DAYLIGHT
TZOFFSETFROM:+0100
TZOFFSETTO:+0200
TZNAME:CEST
DTSTART:20230326T010000
END:DAYLIGHT
BEGIN:STANDARD
TZOFFSETFROM:+0200
TZOFFSETTO:+0100
TZNAME:CET
DTSTART:20231029T010000
END:STANDARD
BEGIN:DAYLIGHT
TZOFFSETFROM:+0100
TZOFFSETTO:+0200
TZNAME:CEST
DTSTART:20240331T010000
END:DAYLIGHT
BEGIN:STANDARD
TZOFFSETFROM:+0200
TZOFFSETTO:+0100
TZNAME:CET
DTSTART:20241027T010000
END:STANDARD
BEGIN:DAYLIGHT
TZOFFSETFROM:+0100
TZOFFSETTO:+0200
TZNAME:CEST
DTSTART:20250330T010000
END:DAYLIGHT
BEGIN:STANDARD
TZOFFSETFROM:+0200
TZOFFSETTO:+0100
TZNAME:CET
DTSTART:20251026T010000
END:STANDARD
END:VTIMEZONE
BEGIN:VEVENT
DTSTART;TZID=Europe/Berlin:20241017T110000
DTEND;TZID=Europe/Berlin:20241017T170000
DTSTAMP:20260423T123723
CREATED:20240701T110639Z
LAST-MODIFIED:20240716T073956Z
UID:3119-1729162800-1729184400@erdcharta.de
SUMMARY:initiativ - Redaktionstreffen
DESCRIPTION:Du hast Lust Redaktionsarbeit kennenzulernen? Du möchtest Artikel schreiben lernen und mit anderen über aktuelle gesellschaftliche Themen diskutieren? Dann komm zu unserem initiativ-Redaktionstreffen! Unser Team trifft sich zwei Mal im Jahr\, um die nächsten Ausgaben zu planen und die Hefte in die Tat umzusetzen. Gemeinsam brainstormen wir\, welche Themen wir gerade als wichtig erachten\, was die Welt so umtreibt. Dementsprechend sammeln wir Ideen für Beiträge\, verteilen Aufgaben und lernen voneinander. Eine Teilnahme ist nach Voranmeldung auch hybrid möglich.  \n\n\n\n\n\n\n\n \n\n\n\n \n\n\nDetails\n\nWann? Donnerstag\, 17.10.\, 11:00 – 17:00 Uhr\,Wo? Vitopia\, Herrenkrug 2\, MagdeburgWer? Isabelle Roosen (Erd-Charta-Bildungsreferentin)\, Christine Clar (initiativ-Redaktion) und weitere Interessierte und Erd-Charta-Botschafter*innen Kosten: Keine (Fahrtkosten und Verpflegung übernehmen wir) \n\n\n\nWenn Du dabei sein möchtest\, melde Dich bis zum 01.10. bei uns! \n\n\n\nVorstellung Veranstaltungsort\n\n\nMitten in der Natur und doch stadtnah befindet sich in Magdeburg das historische Häuserensemble von Vitopia direkt an der Elbe mit dem Elberadweg. Durch eine ökologische\, denkmalgerechte Gebäudesanierung ist in dem ehemaligen Gärtnerhaus ein gemütliches\, familienfreundliches CAFÉ\, eine Herberge mit Seminar/Gemeinschaftsraum und gemeinschaftlich genutzter Wohnraum entstanden. \n\n\n\n\n\nAnmeldung\n\n\n\n                    Anmeldung Tagesveranstaltung        \n            \n                \n                    Updates                \n            \n            \n                \n            \n        \n        VornameNachnameE-MailAdresseStraße und HausnummerStadtPostleitzahlLandLand auswählenAfghanistanAlbanienAlgerienAmerikanisch-SamoaAmerikanische JungferninselnAndorraAngolaAnguillaAntarktikaAntigua und BarbudaArgentinienArmenienArubaAserbaidschanAustralienBahamasBahrainBangladeschBarbadosBelarusBelgienBelizeBeninBermudaBhutanBolivienBonaire\, Sint Eustatius und SabaBosnien und HerzegowinaBotswanaBouvetinselBrasilienBritische JungferninselnBritisches Territorium im Indischen OzeanBruneiBulgarienBurkina FasoBurundiCabo VerdeChileChinaCookinselnCosta RicaCuraçaoDemocratic Republic of the Congo (Kinshasa)DeutschlandDominicaDominikanische RepublikDschibutiDänemarkEcuadorEl SalvadorElfenbeinküsteEritreaEstlandEswatiniFalklandinselnFidschiFinnlandFrankreichFranzösisch-GuayanaFranzösisch-PolynesienFranzösische Süd- und AntarktisgebieteFäröerGabunGambiaGeorgienGhanaGibraltarGrenadaGriechenlandGrönlandGuadeloupeGuamGuatemalaGuernseyGuineaGuinea-BissauGuyanaHaitiHeard und McDonaldinselnHondurasHongkongIndienIndonesienIrakIranIrlandIslandIsle of ManIsraelItalienJamaikaJapanJemenJerseyJordanienKaimaninselnKambodschaKamerunKanadaKasachstanKatarKeniaKirgisistanKiribatiKokosinseln (Keelinginseln)KolumbienKomorenKosovoKroatienKubaKuwaitLaosLesothoLettlandLibanonLiberiaLibyenLiechtensteinLitauenLuxemburgMacao\, ChinaMadagaskarMalawiMalaysiaMaledivenMaliMaltaMarokkoMarshallinselnMartiniqueMauretanienMauritiusMayotteMexikoMikronesienMoldauMonacoMongoleiMontenegroMontserratMosambikMyanmarNamibiaNauruNepalNeukaledonienNeuseelandNicaraguaNiederlandeNigerNigeriaNiueNordkoreaNorfolkinselNorth MacedoniaNorwegenNördliche MarianenOmanOsttimorPakistanPalauPalästinensische AutonomiegebietePanamaPapua-NeuguineaParaguayPeruPhilippinenPitcairninselnPolenPortugalPuerto RicoRepublic of the Congo (Brazzaville)RuandaRumänienRusslandRéunionSaint BarthélemySaint Martin (niederländischer Teil)Saint-Pierre und MiquelonSalomonenSambiaSamoaSan MarinoSao Tome and PrincipeSaudi-ArabienSchwedenSchweizSenegalSerbienSeychellenSierra LeoneSimbabweSingapurSlowakeiSlowenienSomaliaSpanienSpitzbergen und Jan MayenSri LankaSt. HelenaSt. Kitts und NevisSt. LuciaSt. Martin (Frankreich)St. Vincent und die GrenadinenSudanSurinamSyrienSüdafrikaSüdgeorgien/SandwichinselnSüdkoreaSüdsudanTadschikistanTaiwanTansaniaThailandTogoTokelauTongaTrinidad und TobagoTschadTschechienTunesienTurkmenistanTurks- und CaicosinselnTuvaluTürkiyeUgandaUkraineUngarnUnited States (US) Minor Outlying IslandsUruguayUsbekistanVanuatuVatikanstadtVenezuelaVereinigte Arabische EmirateVereinigte Staaten von Amerika (USA)Vereinigtes KönigreichVietnamWallis und FutunaWeihnachtsinselWestsaharaZentralafrikanische RepublikZypernÄgyptenÄquatorialguineaÄthiopienÅlandinselnÖsterreichInstitution TelefonnummerVerpflegungswünscheIch bin damit einverstanden\, dass meine Kontaktdaten an andere Teilnehmer*innen weitergegeben werden\, zum Beispiel für Fahrgemeinschaften. Ja NeinIch habe die Stornobedingungen gelesen: https://erdcharta.de/stornobedingungen/ JaBemerkungenVerbindlich anmelden
URL:https://erdcharta.de/veranstaltung/initiativ-redaktionstreffen/
LOCATION:Vitopia\, Magdeburg\, Herrenkrug 2\, Magdeburg\, Sachsen-Anhalt\, 39114\, Deutschland
CATEGORIES:initiativ
ATTACH;FMTTYPE=image/png:https://erdcharta.de/wp-content/uploads/2024/07/2024-10-ini-Redaktionstreffen.png
END:VEVENT
END:VCALENDAR