BEGIN:VCALENDAR
VERSION:2.0
PRODID:-//Die Erd-Charta - ECPv6.15.20//NONSGML v1.0//EN
CALSCALE:GREGORIAN
METHOD:PUBLISH
X-ORIGINAL-URL:https://erdcharta.de
X-WR-CALDESC:Veranstaltungen für Die Erd-Charta
REFRESH-INTERVAL;VALUE=DURATION:PT1H
X-Robots-Tag:noindex
X-PUBLISHED-TTL:PT1H
BEGIN:VTIMEZONE
TZID:Europe/Berlin
BEGIN:DAYLIGHT
TZOFFSETFROM:+0100
TZOFFSETTO:+0200
TZNAME:CEST
DTSTART:20240331T010000
END:DAYLIGHT
BEGIN:STANDARD
TZOFFSETFROM:+0200
TZOFFSETTO:+0100
TZNAME:CET
DTSTART:20241027T010000
END:STANDARD
BEGIN:DAYLIGHT
TZOFFSETFROM:+0100
TZOFFSETTO:+0200
TZNAME:CEST
DTSTART:20250330T010000
END:DAYLIGHT
BEGIN:STANDARD
TZOFFSETFROM:+0200
TZOFFSETTO:+0100
TZNAME:CET
DTSTART:20251026T010000
END:STANDARD
BEGIN:DAYLIGHT
TZOFFSETFROM:+0100
TZOFFSETTO:+0200
TZNAME:CEST
DTSTART:20260329T010000
END:DAYLIGHT
BEGIN:STANDARD
TZOFFSETFROM:+0200
TZOFFSETTO:+0100
TZNAME:CET
DTSTART:20261025T010000
END:STANDARD
END:VTIMEZONE
BEGIN:VEVENT
DTSTART;TZID=Europe/Berlin:20250201T100000
DTEND;TZID=Europe/Berlin:20250201T130000
DTSTAMP:20260423T111845
CREATED:20250106T144235Z
LAST-MODIFIED:20250129T074954Z
UID:3635-1738404000-1738414800@erdcharta.de
SUMMARY:Weil es ums Ganze geht! - Erd-Charta-Workshop Löhne
DESCRIPTION:Erd-Charta Informationstag in Löhne \n\n\n\nDas Jugendzentrum Riff und die Stadt Löhne laden gemeinsam mit der Deutschen Erd-Charta-Koordinierungsstelle zu einem spannenden Erd-Charta-Informationstag ein. \n\n\n\nIm Jahr 2023 unterzeichnete der Rat der Stadt Löhne die Erd-Charta\, eine internationale Werteerklärung für nachhaltige Entwicklung. Als Teil dieses Prozesses möchten wir alle Löhner*innen zu einem interaktiven Erd-Charta-Kennenlern-Workshop über Nachhaltigkeit\, ein zukunftsfähiges Löhne und globale Zusammenhänge einladen. \n\n\n\nZudem suchen wir Erd-Charta-Botschafter*innen aus Löhne\, die sich für eine nachhaltige Zukunft engagieren möchten! Ab März 2025 wird in Warburg (Ostwestfalen) ein spezielles Botschafter*innen-Training angeboten. Ein Shuttlebus aus Löhne wird euch dorthin bringen. Der Erd-Charta-Tagesworkshop am 01. Februar 2025 gibt erste Einblicke und praktische Beispiele\, die ihr im Botschafter*innen-Training vertiefen könnt. \n\n\n\nKommt vorbei\, lernt die Erd-Charta kennen und seid Teil einer globalen Bewegung für Nachhaltigkeit und eine bessere Zukunft! \n\n\n\n\n\n\n\nWas Euch am Kennenlerntag erwartet:\n\n\n\nIn einer entspannten Atmosphäre\, ganz ohne klassische Vorstellungsrunde\, lernen wir uns über persönliche Interessen und das Thema Nachhaltigkeit kennen. Der Workshop setzt auf spielerische Elemente\, um von Anfang an eine kreative und offene Stimmung zu fördern. Nach einem Kurzvortrag zur Erd-Charta bekommt ihr die Möglichkeit durch die Methode des Wandelwegs\, selbst in die Werte der Erd-Charta einzutauchen und über Eure eigenen Werte zu reflektieren. In Kleingruppen vertiefen wir das Gelernte und kommen in einen kreativen Austausch. Dabei nutzen wir Methoden wie einen Schreibdialog\, Visualisierungen oder Bilder zur Erd-Charta. Zum Abschluss gibt es eine Transfer-Übung\, wie konkrete nachhaltige Aktivitäten in Eurem Alltag umgesetzt werden können. \n\n\n\nFür eine bessere Planbarkeit\, freuen wir uns über Anmeldungen vorab. Eine spontane Teilnahme ist ebenfalls möglich\, Interessensbekundungen gerne per Email.  \n\n\n\n \n\n\nDetails\n\nWann? Samstag\, 01.02.\, 10:00 – 13:00 Uhr\, Wo? Jugendzentrum Riff\, Löhne (Alte Bünder Straße 14\, 32584 Löhne – NRW)\, mehr InfosWer? Isabelle Roosen (Erd-Charta-Bildungsreferentin)Kosten: Keine – Verpflegungskosten werden von uns übernommen. \n\n\n\nFörderungen: Die Ausbildung und unsere Aktivitäten in Nordrhein-Westfalen werden gefördert aus Mitteln der Stiftung Umwelt und Entwicklung NRW\, der Katholischen Erwachsenen- und Familienbildung Ostwestfalen und des Kirchlichen Entwicklungsdienstes durch Brot für die Welt – Evangelischer Entwicklungsdienst. Für die Inhalte der Publikationen und Arbeit ist allein die Ökumenische Initiative Eine Welt e.V. verantwortlich. Die dargestellten Positionen geben nicht den Standpunkt der uns fördernden Institutionen wieder. \n\n\n\n\n\n\n\n\n\n\n\n\n\n\n\n\n\nVeranstaltungsort \n\n\nAls die zentrale Kinder- und Jugendeinrichtung in Löhne hat das Kinder- und Jugendzentrum Riff den Anspruch\, alle Kinder\, Jugendlichen und junge Erwachsene im gesamten Stadtgebiet Löhne anzusprechen. Die Angebotspalette des Hauses reicht\, beginnend mit der offenen und teiloffenen\, freizeitpädagogischen Arbeit\, über geschlechtsspezifische und soziale Fördergruppen bis hin zu kultureller\, internationaler und politischer Kinder-\, Jugend- und Erwachsenenbildung. \n\n\n\n\n\nAnmeldung\n\n\n\n                    Anmeldung Tagesveranstaltung        \n            \n                \n                    Newsletter                \n            \n            \n                \n            \n        \n        VornameNachnameE-MailAdresseStraße und HausnummerStadtPostleitzahlLandLand auswählenAfghanistanAlbanienAlgerienAmerikanisch-SamoaAmerikanische JungferninselnAndorraAngolaAnguillaAntarktikaAntigua und BarbudaArgentinienArmenienArubaAserbaidschanAustralienBahamasBahrainBangladeschBarbadosBelarusBelgienBelizeBeninBermudaBhutanBolivienBonaire\, Sint Eustatius und SabaBosnien und HerzegowinaBotswanaBouvetinselBrasilienBritische JungferninselnBritisches Territorium im Indischen OzeanBruneiBulgarienBurkina FasoBurundiCabo VerdeChileChinaCookinselnCosta RicaCuraçaoDemocratic Republic of the Congo (Kinshasa)DeutschlandDominicaDominikanische RepublikDschibutiDänemarkEcuadorEl SalvadorElfenbeinküsteEritreaEstlandEswatiniFalklandinselnFidschiFinnlandFrankreichFranzösisch-GuayanaFranzösisch-PolynesienFranzösische Süd- und AntarktisgebieteFäröerGabunGambiaGeorgienGhanaGibraltarGrenadaGriechenlandGrönlandGuadeloupeGuamGuatemalaGuernseyGuineaGuinea-BissauGuyanaHaitiHeard und McDonaldinselnHondurasHongkongIndienIndonesienIrakIranIrlandIslandIsle of ManIsraelItalienJamaikaJapanJemenJerseyJordanienKaimaninselnKambodschaKamerunKanadaKasachstanKatarKeniaKirgisistanKiribatiKokosinseln (Keelinginseln)KolumbienKomorenKosovoKroatienKubaKuwaitLaosLesothoLettlandLibanonLiberiaLibyenLiechtensteinLitauenLuxemburgMacao\, ChinaMadagaskarMalawiMalaysiaMaledivenMaliMaltaMarokkoMarshallinselnMartiniqueMauretanienMauritiusMayotteMexikoMikronesienMoldauMonacoMongoleiMontenegroMontserratMosambikMyanmarNamibiaNauruNepalNeukaledonienNeuseelandNicaraguaNiederlandeNigerNigeriaNiueNordkoreaNorfolkinselNorth MacedoniaNorwegenNördliche MarianenOmanOsttimorPakistanPalauPalästinensische AutonomiegebietePanamaPapua-NeuguineaParaguayPeruPhilippinenPitcairninselnPolenPortugalPuerto RicoRepublic of the Congo (Brazzaville)RuandaRumänienRusslandRéunionSaint BarthélemySaint Martin (niederländischer Teil)Saint-Pierre und MiquelonSalomonenSambiaSamoaSan MarinoSao Tome and PrincipeSaudi-ArabienSchwedenSchweizSenegalSerbienSeychellenSierra LeoneSimbabweSingapurSlowakeiSlowenienSomaliaSpanienSpitzbergen und Jan MayenSri LankaSt. HelenaSt. Kitts und NevisSt. LuciaSt. Martin (Frankreich)St. Vincent und die GrenadinenSudanSurinamSyrienSüdafrikaSüdgeorgien/SandwichinselnSüdkoreaSüdsudanTadschikistanTaiwanTansaniaThailandTogoTokelauTongaTrinidad und TobagoTschadTschechienTunesienTurkmenistanTurks- und CaicosinselnTuvaluTürkiyeUgandaUkraineUngarnUnited States (US) Minor Outlying IslandsUruguayUsbekistanVanuatuVatikanstadtVenezuelaVereinigte Arabische EmirateVereinigte Staaten von Amerika (USA)Vereinigtes KönigreichVietnamWallis und FutunaWeihnachtsinselWestsaharaZentralafrikanische RepublikZypernÄgyptenÄquatorialguineaÄthiopienÅlandinselnÖsterreichInstitution TelefonnummerVerpflegungswünscheIch bin damit einverstanden\, dass meine Kontaktdaten an andere Teilnehmer*innen weitergegeben werden\, zum Beispiel für Fahrgemeinschaften. Ja NeinIch habe die Stornobedingungen gelesen: https://erdcharta.de/stornobedingungen/ JaBemerkungenVerbindlich anmelden
URL:https://erdcharta.de/veranstaltung/weil-es-ums-ganze-geht-erd-charta-workshop-loehne-2/
LOCATION:Jugendzentrum Riff\, Alte Bünder Straße 14\, Löhne\, 32584
CATEGORIES:Erd-Charta-Begleitung,Erd-Charta-Botschafter*innen-Ausbildung,Seminar,Werkstatt
ATTACH;FMTTYPE=image/jpeg:https://erdcharta.de/wp-content/uploads/2024/08/Vernetzung-scaled.jpg
END:VEVENT
END:VCALENDAR