BEGIN:VCALENDAR
VERSION:2.0
PRODID:-//Die Erd-Charta - ECPv6.15.20//NONSGML v1.0//EN
CALSCALE:GREGORIAN
METHOD:PUBLISH
X-WR-CALNAME:Die Erd-Charta
X-ORIGINAL-URL:https://erdcharta.de
X-WR-CALDESC:Veranstaltungen für Die Erd-Charta
REFRESH-INTERVAL;VALUE=DURATION:PT1H
X-Robots-Tag:noindex
X-PUBLISHED-TTL:PT1H
BEGIN:VTIMEZONE
TZID:Europe/Berlin
BEGIN:DAYLIGHT
TZOFFSETFROM:+0100
TZOFFSETTO:+0200
TZNAME:CEST
DTSTART:20240331T010000
END:DAYLIGHT
BEGIN:STANDARD
TZOFFSETFROM:+0200
TZOFFSETTO:+0100
TZNAME:CET
DTSTART:20241027T010000
END:STANDARD
BEGIN:DAYLIGHT
TZOFFSETFROM:+0100
TZOFFSETTO:+0200
TZNAME:CEST
DTSTART:20250330T010000
END:DAYLIGHT
BEGIN:STANDARD
TZOFFSETFROM:+0200
TZOFFSETTO:+0100
TZNAME:CET
DTSTART:20251026T010000
END:STANDARD
BEGIN:DAYLIGHT
TZOFFSETFROM:+0100
TZOFFSETTO:+0200
TZNAME:CEST
DTSTART:20260329T010000
END:DAYLIGHT
BEGIN:STANDARD
TZOFFSETFROM:+0200
TZOFFSETTO:+0100
TZNAME:CET
DTSTART:20261025T010000
END:STANDARD
END:VTIMEZONE
BEGIN:VEVENT
DTSTART;TZID=Europe/Berlin:20251113T160000
DTEND;TZID=Europe/Berlin:20251211T173000
DTSTAMP:20260423T140144
CREATED:20250806T072740Z
LAST-MODIFIED:20250904T083606Z
UID:4139-1763049600-1765474200@erdcharta.de
SUMMARY:Blick über den Gartenzaun
DESCRIPTION:Webinarreihe rund um Globales Lernen im Schulgarten \n\n\n\nTauchen Sie ein in die faszinierende Welt des Schulgartens und entdecken Sie\, wie er als Lernort für globales Verständnis und kulturellen Austausch dienen kann! Diese fünfteilige interaktive Webinarreihe bietet Ihnen spannende Einblicke und praktische Methoden\, um Globales Lernen in Ihrem Schulgarten zu fördern. \n\n\n\nNächste Webinarreihe\n\n\n\n13.11.2025Globales Lernen im Schulgarten20.11.2025Interkulturelles Lernen im Schulgarten27.11.2025Schulgärten verbinden! Globale Perspektiven durch gemeinsames Gärtnern entdecken04.12.2025Ein Buch ist wie ein Garten… Bilderbücher global-lokal rund um Nutzpflanzen11.12.2025In 80 Nutzpflanzen um die Welt – Kommt mit auf Gemüseweltreise!Eine ausführliche Beschreibung der Module findet Ihr auf https://pflanzet.de/fortbildungen-seminare/\n\n\n\nKosten für Reihe inkl. Handouts: \n\n\n\nbis 30.10.2025139 €ab 31.10.2025159 €\n\n\n\nDetails\n\n\n\nOrt: OnlineTermin: Donnerstags\, 16-17:30 Uhr Referent*in: Johanna Lochner\, Erd-Charta-Botschafterin.  \n\n\n\nDr. Johanna Lochner ist freie Dozentin\, Autorin und Bildungsarbeiterin im Bereich Bildung für nachhaltige Entwicklung mit PFLANZET (https://pflanzet.de). Sie ist Mitgründerin von dem Schulgartenprogramm GemüseAckerdemie (Acker e.V.) und Mitglied des internationalen ESD Expert Net und in diesem Kontext Mitgründerin des Virtuellen Schulaustauschprogramms Go! Global. \n\n\n\n\n\n\n\n \n\n\n\nAnmeldung\n\n\n\nAnmeldung bitte per Mail an: kontakt@pflanzet.de \n\n\n\nHier findet Ihr weitere Infos und Veranstaltungen: https://pflanzet.de/fortbildungen-seminare/?lang-redirect=auto \n\n\n\n \n\n\n\nFür Rückfragen wendet Euch bitte direkt an die Referentin:kontakt@pflanzet.de
URL:https://erdcharta.de/veranstaltung/blick-ueber-den-gartenzaun-3/
CATEGORIES:Seminar
ATTACH;FMTTYPE=image/jpeg:https://erdcharta.de/wp-content/uploads/2024/10/Coverbild_Webinarreihe.jpg
END:VEVENT
BEGIN:VEVENT
DTSTART;TZID=Europe/Berlin:20251126T183000
DTEND;TZID=Europe/Berlin:20251126T200000
DTSTAMP:20260423T140144
CREATED:20250806T092151Z
LAST-MODIFIED:20250807T084029Z
UID:4146-1764181800-1764187200@erdcharta.de
SUMMARY:Erd-Charta-Austausch -  Offener Online-Abend für alle Interessierten: Turning conscience into action – Highlights im Rückblick & Vorfreude im Ausblick
DESCRIPTION:Der Online-Stammtisch für alle Aktiven: Erfolge würdigen und neue Inspiration finden \n\n\n\nWir laden Euch herzlich ein zu einem besonderen Abend\, an dem wir gemeinsam innehalten\, um auf das Erreichte zurückzublicken und den Blick nach vorn zu richten. Wir möchten Eure und unsere gemeinsame Arbeit würdigen und neue Inspiration und Kraft für die kommenden Vorhaben schöpfen. \n\n\n\nEin herausragendes Ereignis in diesem Jahr war zweifellos das 25-jährige Jubiläum der Erd-Charta. Dieses Vierteljahrhundert markiert einen wichtigen Meilenstein in unserem Bestreben\, eine gerechtere\, nachhaltigere und friedlichere Welt zu gestalten. Doch neben diesen großen\, kollektiven Erfolgen sind es oft die persönlichen Highlights\, die uns am meisten bewegen und motivieren. Was war Euer ganz persönlicher Moment\, in dem Ihr gespürt habt\, dass Euer Engagement einen Unterschied macht? War es ein inspirierendes Gespräch\, ein erfolgreich umgesetztes Projekt oder die Erkenntnis\, Teil einer wachsenden Bewegung zu sein? Wir möchten diese individuellen Erfahrungen teilen\, wertschätzen und voneinander lernen. \n\n\n\nIn die Zukunft blicken wir bereits gespannt auf das Jahr 2026. Dann steht ein weiteres bedeutendes Ereignis an: unser 50-jähriges Vereinsjubiläum! Dieses halbe Jahrhundert wird nicht nur ein Anlass zum Feiern sein\, sondern auch eine Gelegenheit\, unsere Vision zu erneuern und die Weichen für die nächsten Jahrzehnte zu stellen. Welche neuen Wege können wir beschreiten\, um die Prinzipien der Erd-Charta noch breiter zu verankern und mehr Menschen zu erreichen? Dieser Abend soll ein lebendiger Austausch sein\, der uns alle ermutigt\, weiterhin aktiv zu bleiben und unsere Überzeugungen in konkrete Schritte zu verwandeln. Wir freuen uns auf Eure Teilnahme und Eure persönlichen Geschichten! \n\n\n\n \n\n\n\n\n\n\n\n\n\n \n\n\n\nDetails\n\n\n\nWann? Mi.\, 26.11.2025\, 18.30 – 20.00 UhrWo? Zoom-Link zum Treffen: https://zoom.us/j/95929889228?pwd=WlM5WENTaHZZT2ljbWo1NFFyMnJodz09(Meeting-ID: 959 2988 9228 – Kenncode: 963270 -Ortseinwahl suchen: https://zoom.us/u/ajakUHaly)Wer? Angelika Schroers\, Erd-Charta-Bildungsreferentin und Fabian Schrage\, Erd-Charta-BildungsreferentKosten: keine \n\n\n\nAnmeldung: Schreib uns gerne eine Mail\, wenn Du kommst. An: info@erdcharta.de Spontan dazu kommen\, ist natürlich möglich. \n\n\n\nWir freuen uns auf spannende Gespräche mit Euch!
URL:https://erdcharta.de/veranstaltung/erd-charta-austausch-offener-online-abend-fuer-alle-interessierten-turning-conscience-into-action-highlights-im-rueckblick-vorfreude-im-ausblick/
CATEGORIES:Erd-Charta-Begleitung
ATTACH;FMTTYPE=image/png:https://erdcharta.de/wp-content/uploads/2025/08/Erd-Charta-Austausch_Rueckblick-Ausblick-November2025.png
END:VEVENT
END:VCALENDAR