BEGIN:VCALENDAR
VERSION:2.0
PRODID:-//Die Erd-Charta - ECPv6.15.20//NONSGML v1.0//EN
CALSCALE:GREGORIAN
METHOD:PUBLISH
X-ORIGINAL-URL:https://erdcharta.de
X-WR-CALDESC:Veranstaltungen für Die Erd-Charta
REFRESH-INTERVAL;VALUE=DURATION:PT1H
X-Robots-Tag:noindex
X-PUBLISHED-TTL:PT1H
BEGIN:VTIMEZONE
TZID:Europe/Berlin
BEGIN:DAYLIGHT
TZOFFSETFROM:+0100
TZOFFSETTO:+0200
TZNAME:CEST
DTSTART:20220327T010000
END:DAYLIGHT
BEGIN:STANDARD
TZOFFSETFROM:+0200
TZOFFSETTO:+0100
TZNAME:CET
DTSTART:20221030T010000
END:STANDARD
BEGIN:DAYLIGHT
TZOFFSETFROM:+0100
TZOFFSETTO:+0200
TZNAME:CEST
DTSTART:20230326T010000
END:DAYLIGHT
BEGIN:STANDARD
TZOFFSETFROM:+0200
TZOFFSETTO:+0100
TZNAME:CET
DTSTART:20231029T010000
END:STANDARD
BEGIN:DAYLIGHT
TZOFFSETFROM:+0100
TZOFFSETTO:+0200
TZNAME:CEST
DTSTART:20240331T010000
END:DAYLIGHT
BEGIN:STANDARD
TZOFFSETFROM:+0200
TZOFFSETTO:+0100
TZNAME:CET
DTSTART:20241027T010000
END:STANDARD
END:VTIMEZONE
BEGIN:VEVENT
DTSTART;TZID=Europe/Berlin:20230324T000000
DTEND;TZID=Europe/Berlin:20230326T235959
DTSTAMP:20260422T081223
CREATED:20230123T153414Z
LAST-MODIFIED:20230314T085049Z
UID:1179-1679616000-1679875199@erdcharta.de
SUMMARY:Das Männliche und die Erde. Erkundungen auf einem schwierigen Terrain
DESCRIPTION:Seminar gemeinsam mit erdfest und der Offenen Kunstwerkstatt Köln Süd e.V. vom 24. – 26. März 2023 in Köln\n\n\n\nWas ist männliche Energie – im Blick auf die Erde?\n\n\n\nDer Impuls für dieses Seminar geht zum Teil auf die Gruppe »Männerpfade« am Kloster Nütschau in Norddeutschland zurück. Von Anfang an bei den Erdfesten dabei\, wird »Männerpfade« am Nachmittag des zentralen Seminartages zu »Begegnungen mit dem Männlichen und der Erde« einladen. Ausgangsfragen dabei sind: Was ist männliche Energie – im Blick auf die Erde? Wie manifestiert sie sich? Inwiefern wird sie für den Wandel hin zu einer sozial und ökologisch gerechten Welt gebraucht? Inwieweit wird sie aus Angst oder Unwissenheit unterdrückt? Wobei hier männliche Energie wohlgemerkt nicht auf Männer beschränkt ist. Sie wirkt in jedem Menschen\, unabhängig vom biologischen Körper. \n\n\n\nUnterstützt durch die Offene Kunstwerkstatt Köln Süd (OKKS) ziehen wir für diese Erkundungen ganz bewusst auch die Kunst zu Rate. Zumal das Künstlerische mit Joseph Beuys als ein Vermögen gesehen werden kann\, das allen Menschen per Geburt eignet. So basieren etliche der Praktiken und Prozesse des Seminars auf der Idee: »Die einzig revolutionäre Kraft ist die Kraft der menschlichen Kreativität« (Beuys). Und nachdem die OKKS sich unlängst mit »Weiblichen Räumen« im übertragenen Sinne auseinandergesetzt hat\, liegt es nahe\, nun mit ihr als Partnerin nach »männlicher Energie« – im Blick auf die Erde – zu fragen.   \n\n\n\nEin kontaminiertes Feld\n\n\n\nWobei uns nur zu bewusst ist\, wie sehr wir uns mit diesen Erkundungen auf ein sozialpsychologisch kontaminiertes Feld wagen. Denn natürlich sind gerade im gesellschaftlichen Umgang mit der Erde geschlechterspezifische Muster höchst real und folgenschwer. Der Kapitalismus\, treibende Kraft hinter den globalisierten Vernichtungen von Lebendigem\, ging historisch aus dem abendländischen Patriarchat hervor. Demgemäß identifizieren Frauen sich leicht mit der missachteten\, ausgebeuteten\, geschundenen »Mutter Erde« – was sich zum Beispiel darin zeigt\, dass Ansätze wie die Erdfest-Idee\, aber auch die Aktivitäten der Erd-Charta-Initiative bei Frauen tendenziell mehr Resonanz als bei Männern finden. So weit\, so bekannt. \n\n\n\nIn jüngster Zeit indes sind beide Teile unseres Begriffspaares – »das Männliche« und »die Erde« – in je eigener und kaum erwartbarer Weise heftig in Bewegung geraten: \n\n\n\nDas Denken dekolonisieren\n\n\n\nDen drohenden ökologischen Abgrund im Blick zeigen neue geisteswissenschaftliche Forschungen auf\, in welchem Maße Grundannahmen der westlichen Denkweise – etwa die Trennung von Geist und Materie oder von Natur und Kultur – in sich irrig und damit fatal irreführend gewesen sind. Immer mehr Anthropolog*innen und Philosoph*innen namentlich des globalen Südens\, darunter Eduardo Viveiros da Castro (Brasilien)\, Sylvia Winter (Jamaika)\, Bayo Akomolafe (Nigeria) und Dipesh Chakrabarty (Indien)\, verstehen Anthropologie neu als »permanente Dekolonisierung des Denkens« (Castro). Denn das westliche Denken repräsentiere nicht die Wirklichkeit. Es bringe sie unter Kontrolle. War Rationalität das Primat der westlich geprägten Moderne\, wird nun »Lebendigkeit«\, wird die Suche nach Kulturen und Politiken des Lebendigen zu einem Primat für 21. Jahrhundert. Wie berührt das unsere gesellschaftlichen Vorstellungen von männlicher Energie? \n\n\n\nDie Erde als neuer politischer Akteur\n\n\n\nUnd die Erde? Während sie für die Moderne letztendlich bloßes Ressourcen- und Rohstofflager sowie Müllsenke gewesen ist\, erscheint sie heute im Zuge des galoppierenden Klimawandels bis ins alltägliche Wahrnehmen hinein erschüttert und erwacht. Sie reagiert katastrophisch auf die Aktivitäten des Menschen. Eben noch passives Ding\, entpuppt sie sich als wirkmächtig. Mit dem Anthropozän-Vordenker Bruno Latour gesprochen: Wir müssen die Erde neu als Subjekt verstehen – und zwar als ein Gegenüber im Rang eines politischen Akteurs\, einer Art neue Weltmacht\, mit der es sich auf allen politischen Ebenen auseinanderzusetzen gilt. Tatsächlich gibt es derzeit weltweit Bestrebungen\, die Sphären des Rechts und der Politik auf die nicht-menschliche Mitwelt auszuweiten. So etwa erhob der Staat Ecuador 2008\, anknüpfend an indigene Traditionen\, »Pachamama« (Mutter Erde) zum Rechtssubjekt. Und 2022 erhielt mit dem spanischen Mar Menor das erste Ökosystem Europas den Status einer Rechtspersönlichkeit. Fortan verbürgt ein Gesetz das Recht dieser Lagune\, »als Ökosystem zu existieren und sich auf natürliche Weise zu entwickeln«. \n\n\n\nInwiefern berührt die neue gesellschaftliche Wahrnehmung der Erde als politischer Akteur und als Rechtssubjekt das Thema dieses Seminars? \n\n\n\nMitweben an neuen\, lebensdienlichen Kosmologien\n\n\n\nOder wird das Seminar mit derlei großen Fragen völlig überfrachtet? Wir meinen\, nein. Nicht\, wenn klar ist\, dass die Kölner Erkundungen allenfalls ein Anfang sein können. Und nicht\, wenn wir uns entschließen\, »das Männliche und die Erde« bewusst vor dem Hintergrund des Epochenrandes zu betrachten\, an dem die Menschheit derzeit steht. \n\n\n\nAls ganzheitliche Initiativen sind die Erd-Charta und erdfest prädestiniert\, mitzuwirken beim Herausbilden neuer\, lebensdienlicher Kosmologien\, für die »das Männliche« (genauso wie »das Weibliche«) und »die Erde« elementar sind. \n\n\n\nAblauf\n\n\n\nFreitag \n\n\n\n18:00   BegrüßungDenis Kupsch\, Geschäftsführender Referent der Erd-Charta-InitiativeErstes Kennenlernen: Was motiviert mich\, hier zu sein? \n\n\n\nAbendessen \n\n\n\n»Zeige deine Wunde. Kunst und Spiritualität bei Joseph Beuys«Film von Rüdiger Sünner – in Ausschnitten\, vorgestellt von Brigitte Maxrath-Enger und Annette Ronicke\, Offene Kunstwerkstatt Köln-Süd e.V. \n\n\n\nAustausch und geselliges Beisammensein \n\n\n\nSamstag \n\n\n\n09:30   Kurze Atemarbeit\, Meditation\, EnergiearbeitAnnette RonickeInhaltlicher EröffnungsimpulsHildegard Kurt\, erdfest \n\n\n\n10:00   Was wird versteckt\, ignoriert\, verdrängt? Arbeiten im inneren Atelier gemäß dem mit Beuys erweiterten Verständnis von Kunst Hildegard Kurt \n\n\n\n11:30 Kaffeepause \n\n\n\n12:00   Erden. Künstlerischer Prozess mit TonBrigitte Maxrath-Enger   \n\n\n\n13:30   Mittagessen \n\n\n\n15:00   Begegnungen mit dem Männlichen und der Erdebegleitet von »Männerpfade« am Kloster Nütschau \n\n\n\n18:00   Abendessen \n\n\n\n20:00   Austausch über Erfahrungen und Einsichten des Tages \n\n\n\ngeselliges Beisammensein \n\n\n\nSonntag \n\n\n\n09:30   Kurze Atemarbeit\, Meditation\, EnergiearbeitAnnette Ronicke \n\n\n\nDem Rhein begegnen: Was erfahre ich von dir?Ästhetischer Prozess am Rhein \n\n\n\nDas Männliche und die Erde: Impulse einer transformativen Praxis im Horizont der Erd-Charta- und erdfest-InitiativenDialogrunde (nach David Bohm)             Zugunsten eines authentischen Arbeitens soll die weitere Gestaltung dieser letzten Seminareinheit sich aus dem bisherigen Prozess ergeben. \n\n\n\n12:30   Ende mit anschließendem gemeinsamem Mittagessen \n\n\n\nDetails\n\n\n\nWann? 24. – 26. März 2023Wo? Haus der Ev. Kirchengemeinde Köln Sürth/Weiß\, Auferstehungskirchweg 7\, 50999 Köln freitags und samstags; Offene Kunstwerkstatt Köln Süd e.V.\, Sürther Hauptstraße 56\, 50999 Köln (sonntags)Wer? Prozessbegleitung Hildegard Kurt (erdfest)\, Alexander Czogalla (Männerpfade und erdfest)\, Brigitte Maxrath-Enger (Offene Kunstwerkstatt Köln Süd e.V.)Kosten: 5 – 60 € (nach Selbsteinschätzung; inkl. Übernachtung und vegetarisch-regionaler Ernährung)Die Teilnahmezahl ist auf 20 Personen begrenzt.Für Rückfragen stehen wir Euch sehr gern zur Verfügung. \n\n\n\n*Das Seminar wird gefördert von Engagement Global im Auftrag des BMZ und des Fonds Soziokultur der Beauftragten der Bundesregierung für Kultur und Medien sowie aus Mitteln der Stiftung Umwelt und Entwicklung NRW und des Kirchlichen Entwicklungsdienstes durch Brot für die Welt – Evangelischer Entwicklungsdienst. \n\n\n\nAnmeldung\n\n\n\nBitte melde dich zu unseren Veranstaltungen an\, damit wir besser planen können. \n\n\n\n                    Anmeldung Seminar        \n            \n                \n                    Subscribe                \n            \n            \n                \n            \n        \n        VornameNachnameE-MailAdresseStraße und HausnummerStadtPostleitzahlLandLand auswählenAfghanistanAlbanienAlgerienAmerikanisch-SamoaAmerikanische JungferninselnAndorraAngolaAnguillaAntarktikaAntigua und BarbudaArgentinienArmenienArubaAserbaidschanAustralienBahamasBahrainBangladeschBarbadosBelarusBelgienBelizeBeninBermudaBhutanBolivienBonaire\, Sint Eustatius und SabaBosnien und HerzegowinaBotswanaBouvetinselBrasilienBritische JungferninselnBritisches Territorium im Indischen OzeanBruneiBulgarienBurkina FasoBurundiCabo VerdeChileChinaCookinselnCosta RicaCuraçaoDemocratic Republic of the Congo (Kinshasa)DeutschlandDominicaDominikanische RepublikDschibutiDänemarkEcuadorEl SalvadorElfenbeinküsteEritreaEstlandEswatiniFalklandinselnFidschiFinnlandFrankreichFranzösisch-GuayanaFranzösisch-PolynesienFranzösische Süd- und AntarktisgebieteFäröerGabunGambiaGeorgienGhanaGibraltarGrenadaGriechenlandGrönlandGuadeloupeGuamGuatemalaGuernseyGuineaGuinea-BissauGuyanaHaitiHeard und McDonaldinselnHondurasHongkongIndienIndonesienIrakIranIrlandIslandIsle of ManIsraelItalienJamaikaJapanJemenJerseyJordanienKaimaninselnKambodschaKamerunKanadaKasachstanKatarKeniaKirgisistanKiribatiKokosinseln (Keelinginseln)KolumbienKomorenKosovoKroatienKubaKuwaitLaosLesothoLettlandLibanonLiberiaLibyenLiechtensteinLitauenLuxemburgMacao\, ChinaMadagaskarMalawiMalaysiaMaledivenMaliMaltaMarokkoMarshallinselnMartiniqueMauretanienMauritiusMayotteMexikoMikronesienMoldauMonacoMongoleiMontenegroMontserratMosambikMyanmarNamibiaNauruNepalNeukaledonienNeuseelandNicaraguaNiederlandeNigerNigeriaNiueNordkoreaNorfolkinselNorth MacedoniaNorwegenNördliche MarianenOmanOsttimorPakistanPalauPalästinensische AutonomiegebietePanamaPapua-NeuguineaParaguayPeruPhilippinenPitcairninselnPolenPortugalPuerto RicoRepublic of the Congo (Brazzaville)RuandaRumänienRusslandRéunionSaint BarthélemySaint Martin (niederländischer Teil)Saint-Pierre und MiquelonSalomonenSambiaSamoaSan MarinoSao Tome and PrincipeSaudi-ArabienSchwedenSchweizSenegalSerbienSeychellenSierra LeoneSimbabweSingapurSlowakeiSlowenienSomaliaSpanienSpitzbergen und Jan MayenSri LankaSt. HelenaSt. Kitts und NevisSt. LuciaSt. Martin (Frankreich)St. Vincent und die GrenadinenSudanSurinamSyrienSüdafrikaSüdgeorgien/SandwichinselnSüdkoreaSüdsudanTadschikistanTaiwanTansaniaThailandTogoTokelauTongaTrinidad und TobagoTschadTschechienTunesienTurkmenistanTurks- und CaicosinselnTuvaluTürkiyeUgandaUkraineUngarnUnited States (US) Minor Outlying IslandsUruguayUsbekistanVanuatuVatikanstadtVenezuelaVereinigte Arabische EmirateVereinigte Staaten von Amerika (USA)Vereinigtes KönigreichVietnamWallis und FutunaWeihnachtsinselWestsaharaZentralafrikanische RepublikZypernÄgyptenÄquatorialguineaÄthiopienÅlandinselnÖsterreichInstitution TelefonnummerVerpflegungswünscheÜbernachtung gewünscht? (wenn nicht anders gekennzeichnet im Preis inbegriffen) Ja NeinBesondere Wünsche für die Übernachtung (z.B. Barrierefreiheit\, Zimmerwunsch)Ich bin damit einverstanden\, dass meine Kontaktdaten an andere Teilnehmer*innen weitergegeben werden\, zum Beispiel für Fahrgemeinschaften. Ja NeinIch habe die Stornobedingungen gelesen: https://erdcharta.de/stornobedingungen/ JaBemerkungenVerbindlich anmelden
URL:https://erdcharta.de/veranstaltung/das-maennliche-und-die-erde-erkundungen-auf-einem-schwierigen-terrain/
LOCATION:Haus der Ev. Kirchengemeinde Köln Sürth/Weiß\, Auferstehungskirchweg 7\, Köln\, 50999\, Deutschland
CATEGORIES:Seminar
ATTACH;FMTTYPE=image/jpeg:https://erdcharta.de/wp-content/uploads/2023/01/das-maennliche-und-die-erde.jpg
END:VEVENT
BEGIN:VEVENT
DTSTART;TZID=Europe/Berlin:20230331T000000
DTEND;TZID=Europe/Berlin:20230402T235959
DTSTAMP:20260422T081223
CREATED:20230123T163510Z
LAST-MODIFIED:20230302T095832Z
UID:1194-1680220800-1680479999@erdcharta.de
SUMMARY:Weil es ums Ganze geht! - transformative Bildungsarbeit mit der Erd-Charta - Frühjahr
DESCRIPTION:Erd-Charta-Botschafter*innen-Grundmodul  in Aachen\n\n\n\nDu interessierst Dich für nachhaltige Entwicklung und hast häufig das Gefühl\, dass eine gewisse Tiefe fehlt? Du möchtest lernen\, wie eine grundlegende Werteveränderung und ein Bewusstseinswandel für eine sozial-ökologische-ökonomische Transformation aussehen können? \n\n\n\nDann lerne die Erd-Charta kennen! \n\n\n\nDie Erd-Charta ist eine inspirierende Vision für eine zukunftsfähige und gerechte Welt. Eine positive Vision\, die wir so dringend brauchen innerhalb eines Systems\, in dem dramatische Nachrichten über Klimawandel\, Menschenrechtsverletzungen oder kriegerische Konflikte an der Tagesordnung sind. Die Erd-Charta mit ihren ethischen Grundsätzen für eine nachhaltige Entwicklung kann uns Hoffnung spenden und uns motivieren für den Wandel in die Tat zu schreiten. Getragen wird sie von einem weltweiten Netzwerk interkultureller und interreligiöser Initiativen und bietet einen ganzheitlichen Zugang zu globalen Zusammenhängen und wertebasiertem Lernen. \n\n\n\n\n\n\n\n \n\n\n\nOb interaktiver Workshop\, Vortrag\, Demo oder Stand – es gibt viele Wege die Erd-Charta mit Leben zu füllen.Finde heraus welchen Du gehen willst und werde Erd-Charta-Botschafter*in! \n\n\n\nAusbildung = 1 Grundmodul + 1 Methodenmodul + eigene Aktion\n\n\n\nDas Grundmodul ‚Weil es um’s Ganze geht!‘ vom 31. März bis 02.April 2023 in Aachen ist der Auftakt der Erd-Charta-Botschafter*innen-Ausbildung. An diesem Wochenende werden die Teilnehmer*innen die Erd-Charta\, ihren Entstehungsprozess und unsere Arbeitsweise und -philosophie kennenlernen sowie erste Formate für verschiedene Zielgruppen ausprobieren. \n\n\n\nFreitag \n\n\n\nAb 16:00Anreise und AnkommenAbendessen18:00Erstes Kennenlernen der weiteren Teilnehmer*innen und der Erd-ChartaVerschiedene Einstiegs- und Kennenlernübungen aus dem Erd-Charta-Methodenpool\n\n\n\nSamstag \n\n\n\nFrühstück09:15 – 13:00– Einstieg in das Thema und eigener Zugang zur Erd-Charta– Die Erd-Charta als Internationale Initiative und ihre Entstehungsgeschichte– Erd-Charta-Wandelweg und Vernetzungsspiel– Impuls von Alide Roerink\, Erd-Charta InternationalMittagessen14:30 – 17:30Die Deutsche Erd-Charta-BewegungVorstellung der Deutschen Erd-Charta-Initiative17:30 – 19:00Wie kann ich die Erd-Charta vorstellen?Interaktive Erd-Charta-Methoden u. a. StehgreifspielAbendessenAb 20:00Freie Gestaltung. Individueller Tagesausklang oder geselliges Zusammensein. Wahlweise Spieleabend mit dem Erd-Charta-Brettspiel\n\n\n\nSonntag \n\n\n\nFrühstück09:00 – 11:30Wie kann ich die Erd-Charta vorstellen und anwenden? Wie kann ich selbst aktiv werden?Verschiedene Erd-Charta-Methoden u. a. Kreativmethoden um eigene Ideen zu entwickeln11:30 – 13:00Ausblick: Wie geht das Ausbildungsprogramm weiter? Orga und FeedbackDialog zum Ausblick\, Evaluations- und Erd-Charta-AbschlussmethodenMittagessenAb 14:00Abreise\n\n\n\nDetails\n\n\n\nWann? Freitag\, 31. März Anreise ab 17:00 Uhr bis Sonntag\, 02.April 2023 bis ca. 14 UhrWo? Seminar und Unterkunft in (barrierefreien) Doppelzimmern BDKJ-Jugendbildungsstätte Rolleferberg (Rollefbachweg 64 – 52078 Aachen)\,Wer? Isabelle Roosen und Torben FlörkemeierKosten: 5 – 60 € (nach Selbsteinschätzung; inkl. Übernachtung und vegetarischer Verpflegung)Für Rückfragen steht euch das Erd-Charta-Koordinierungsteam sehr gern zur Verfügung! \n\n\n\nVorstellung Referent*innen\n\n\n\n\nDer Transformationsforscher und Theatercoach Torben Flörkemeier leitet seit 2014 die Erd-Charta-Botschafter*innen-Ausbildung. Er lebt mit seiner kleinen Tochter\, Partnerin\, Oma\, und Tieren in einer familiären Gemeinschaft auf einem Hof in Ostwestfalen-Lippe. Mit Ganzheitlichkeit experimentiert er dort ganz praktisch\, indem er das alte Bauernhaus ökologisch saniert und die umliegenden Obstwiesen vielfältig reaktiviert. \n\n\n\n\n\nErd-Charta-Bildungsreferentin Isabelle Roosen beschäftigt sich seit vielen Jahren mit ganzheitlichem Engagement\, Interdependenzen und Verbindungskultur. Als Biologin\, Umweltwissenschaftlerin und Yogalehrerin findet sie so immer wieder neue Zugänge zu einem gesellschaftlichen Wandel. Sie ist leidenschaftlich aktiv in einem Gemeinschaftsgarten im Herzen von Köln\, mixt gerne Kräuter und Öle zusammen und verbringt ihre Zeit mit Freund*innen und Familie. \n\n\n\n\nVorstellung Seminarort\n\n\n\n\nDie BDKJ-Jugendbildungsstätte Rolleferberg ist ein Ort der Bildung\, Beteiligung und Begegnung. Schulklassen\, Jugendverbände\, Kommunionkinder oder Erwachsenengruppen – in „Rollef“ sind alle herzlich willkommen. Durch umweltbewusstes Wirtschaften und ökologische Gestaltung des Hauses und der Außenanlagen sowie gezielte Bildungsarbeit im Bereich „nachhaltige Entwicklung“ möchte die Jugendbildungsstätte eine Vorbildfunktion wahrnehmen\, um „nachhaltige“ Impulse zu setzen und Prozesse im Sinne der nachhaltigen Entwicklung anzustoßen. \n\n\n\n\nAnmeldung\n\n\n\nBitte melde dich zu unseren Veranstaltungen an\, damit wir besser planen können. \n\n\n\n                    Anmeldung Seminar        \n            \n                \n                    Contact                \n            \n            \n                \n            \n        \n        VornameNachnameE-MailAdresseStraße und HausnummerStadtPostleitzahlLandLand auswählenAfghanistanAlbanienAlgerienAmerikanisch-SamoaAmerikanische JungferninselnAndorraAngolaAnguillaAntarktikaAntigua und BarbudaArgentinienArmenienArubaAserbaidschanAustralienBahamasBahrainBangladeschBarbadosBelarusBelgienBelizeBeninBermudaBhutanBolivienBonaire\, Sint Eustatius und SabaBosnien und HerzegowinaBotswanaBouvetinselBrasilienBritische JungferninselnBritisches Territorium im Indischen OzeanBruneiBulgarienBurkina FasoBurundiCabo VerdeChileChinaCookinselnCosta RicaCuraçaoDemocratic Republic of the Congo (Kinshasa)DeutschlandDominicaDominikanische RepublikDschibutiDänemarkEcuadorEl SalvadorElfenbeinküsteEritreaEstlandEswatiniFalklandinselnFidschiFinnlandFrankreichFranzösisch-GuayanaFranzösisch-PolynesienFranzösische Süd- und AntarktisgebieteFäröerGabunGambiaGeorgienGhanaGibraltarGrenadaGriechenlandGrönlandGuadeloupeGuamGuatemalaGuernseyGuineaGuinea-BissauGuyanaHaitiHeard und McDonaldinselnHondurasHongkongIndienIndonesienIrakIranIrlandIslandIsle of ManIsraelItalienJamaikaJapanJemenJerseyJordanienKaimaninselnKambodschaKamerunKanadaKasachstanKatarKeniaKirgisistanKiribatiKokosinseln (Keelinginseln)KolumbienKomorenKosovoKroatienKubaKuwaitLaosLesothoLettlandLibanonLiberiaLibyenLiechtensteinLitauenLuxemburgMacao\, ChinaMadagaskarMalawiMalaysiaMaledivenMaliMaltaMarokkoMarshallinselnMartiniqueMauretanienMauritiusMayotteMexikoMikronesienMoldauMonacoMongoleiMontenegroMontserratMosambikMyanmarNamibiaNauruNepalNeukaledonienNeuseelandNicaraguaNiederlandeNigerNigeriaNiueNordkoreaNorfolkinselNorth MacedoniaNorwegenNördliche MarianenOmanOsttimorPakistanPalauPalästinensische AutonomiegebietePanamaPapua-NeuguineaParaguayPeruPhilippinenPitcairninselnPolenPortugalPuerto RicoRepublic of the Congo (Brazzaville)RuandaRumänienRusslandRéunionSaint BarthélemySaint Martin (niederländischer Teil)Saint-Pierre und MiquelonSalomonenSambiaSamoaSan MarinoSao Tome and PrincipeSaudi-ArabienSchwedenSchweizSenegalSerbienSeychellenSierra LeoneSimbabweSingapurSlowakeiSlowenienSomaliaSpanienSpitzbergen und Jan MayenSri LankaSt. HelenaSt. Kitts und NevisSt. LuciaSt. Martin (Frankreich)St. Vincent und die GrenadinenSudanSurinamSyrienSüdafrikaSüdgeorgien/SandwichinselnSüdkoreaSüdsudanTadschikistanTaiwanTansaniaThailandTogoTokelauTongaTrinidad und TobagoTschadTschechienTunesienTurkmenistanTurks- und CaicosinselnTuvaluTürkiyeUgandaUkraineUngarnUnited States (US) Minor Outlying IslandsUruguayUsbekistanVanuatuVatikanstadtVenezuelaVereinigte Arabische EmirateVereinigte Staaten von Amerika (USA)Vereinigtes KönigreichVietnamWallis und FutunaWeihnachtsinselWestsaharaZentralafrikanische RepublikZypernÄgyptenÄquatorialguineaÄthiopienÅlandinselnÖsterreichInstitution TelefonnummerVerpflegungswünscheÜbernachtung gewünscht? (wenn nicht anders gekennzeichnet im Preis inbegriffen) Ja NeinBesondere Wünsche für die Übernachtung (z.B. Barrierefreiheit\, Zimmerwunsch)Ich bin damit einverstanden\, dass meine Kontaktdaten an andere Teilnehmer*innen weitergegeben werden\, zum Beispiel für Fahrgemeinschaften. Ja NeinIch habe die Stornobedingungen gelesen: https://erdcharta.de/stornobedingungen/ JaBemerkungenVerbindlich anmelden            \n            \n\n\nDer weitere Verlauf der Ausbildung\n\n\n\nUm mit praktischen Methoden an der Hand die Ausbildung fortzusetzen\, such Dir ein weiteres Seminar aus. Dafür bieten wir in 2023 folgende an: \n\n\nThere are no upcoming events at this time \n\n\n\nUm Erd-Charta-Botschafter*in zu werden\, braucht es dann noch einen Umsetzungspart von Dir. Führe Deine eigene Aktion durch! Wir unterstützen Euch dabei sehr gerne! Zudem freuen wir uns Euch als Referent*in im Rahmen der von uns bundesweit koordinierten Erd-Charta-Bildungsarbeit gewinnen zu können\, mit Euch gemeinsam kreative neue Methoden zu entwickeln oder bei unserem initiativ-Magazin mitzuwirken. \n\n\n\nAllgemeine Infos Erd-Charta-Seminare:\n\n\n\n*Die Erd-Charta ist ein ethischer Rahmen für nachhaltige Entwicklung. Das Dokument ist in einem weltweiten zivil-gesellschaftlichen Prozess entstanden aus dem eine Bewegung hervorging\, die vor allem die Interdependenz (gegenseitige Abhängigkeiten) weltweiter Probleme betont und eine Vision schafft für eine solidarische und friedliche Welt für alle. Die Weltdekade Bildung für Nachhaltige Entwicklung der UNESCO zeichnete die Erd-Charta 2012 als strukturbildende Maßnahme. Sie bildet die Grundlage unserer Bildungsarbeit in Deutschland. Das Seminar ist Teil unserer Erd-Charta-Botschafter*innen-Ausbildung\, kann jedoch auch ohne Vorkenntnisse besucht werden. Wir freuen uns auf Dich!*Alle Termine gelten unter Vorbehalt. Wir behalten uns vor das Programm gegebenenfalls anzupassen. Informationen hierzu erhaltet ihr auf unserer Webseite bei den entsprechenden Veranstaltungen.
URL:https://erdcharta.de/veranstaltung/erd-charta-botschafterinnen-ausbildung-2023/
LOCATION:BDKJ Jugendbildungsstätte Rolleferberg
CATEGORIES:Erd-Charta-Botschafter*innen-Ausbildung
ATTACH;FMTTYPE=image/jpeg:https://erdcharta.de/wp-content/uploads/2023/01/botschafterinnen.jpg
END:VEVENT
END:VCALENDAR